BEGIN:VCALENDAR
VERSION:2.0
PRODID:-//Camden RSL - ECPv6.15.20//NONSGML v1.0//EN
CALSCALE:GREGORIAN
METHOD:PUBLISH
X-WR-CALNAME:Camden RSL
X-ORIGINAL-URL:https://camdenrsl.com.au
X-WR-CALDESC:Events for Camden RSL
REFRESH-INTERVAL;VALUE=DURATION:PT1H
X-Robots-Tag:noindex
X-PUBLISHED-TTL:PT1H
BEGIN:VTIMEZONE
TZID:Australia/Sydney
BEGIN:STANDARD
TZOFFSETFROM:+1100
TZOFFSETTO:+1000
TZNAME:AEST
DTSTART:20200404T160000
END:STANDARD
BEGIN:DAYLIGHT
TZOFFSETFROM:+1000
TZOFFSETTO:+1100
TZNAME:AEDT
DTSTART:20201003T160000
END:DAYLIGHT
BEGIN:STANDARD
TZOFFSETFROM:+1100
TZOFFSETTO:+1000
TZNAME:AEST
DTSTART:20210403T160000
END:STANDARD
BEGIN:DAYLIGHT
TZOFFSETFROM:+1000
TZOFFSETTO:+1100
TZNAME:AEDT
DTSTART:20211002T160000
END:DAYLIGHT
BEGIN:STANDARD
TZOFFSETFROM:+1100
TZOFFSETTO:+1000
TZNAME:AEST
DTSTART:20220402T160000
END:STANDARD
BEGIN:DAYLIGHT
TZOFFSETFROM:+1000
TZOFFSETTO:+1100
TZNAME:AEDT
DTSTART:20221001T160000
END:DAYLIGHT
END:VTIMEZONE
BEGIN:VEVENT
DTSTART;TZID=Australia/Sydney:20210310T093000
DTEND;TZID=Australia/Sydney:20210310T093000
DTSTAMP:20260425T072849
CREATED:20180301T004543Z
LAST-MODIFIED:20180301T004543Z
UID:13760-1615368600-1615368600@camdenrsl.com.au
SUMMARY:MIXED SOCIAL BOWLS
DESCRIPTION:EVERY WEDNESDAY \nThe Camden R.S.L. Club is a great and friendly place to come and play Lawn Bowls. \nMixed Mufti Social Bowls – All Welcome
URL:https://camdenrsl.com.au/event/social-bowls-2021-03-10/
LOCATION:NSW
END:VEVENT
BEGIN:VEVENT
DTSTART;TZID=Australia/Sydney:20210312T190000
DTEND;TZID=Australia/Sydney:20210312T210000
DTSTAMP:20260425T072849
CREATED:20180227T061758Z
LAST-MODIFIED:20180227T061758Z
UID:11917-1615575600-1615582800@camdenrsl.com.au
SUMMARY:Lucky Members Badge Draw
DESCRIPTION:Come on down for the Lucky Members Badge Draw on a Friday Night\nThe draw is done at random between 7pm and 9pm \nIf the prize is not won\, the amount jackpots $50 to Sundays draw\nIf the prize is won\, the amount re-starts at $500 next Sundays draw \nIf your number is drawn out you have 4 minutes to claim your prize\nMembers must be present in the club at the time of the draw to claim your prize\nThe maximum prize is $5000 \nTerms & Conditions\nLTPS/15/06115
URL:https://camdenrsl.com.au/event/lucky-members-badge-draw-2021-03-12/
LOCATION:Camden R.S.L.\, 23 Cawdor Rd\, Camden\, NSW\, 2570\, Australia
END:VEVENT
BEGIN:VEVENT
DTSTART;TZID=Australia/Sydney:20210314T190000
DTEND;TZID=Australia/Sydney:20210314T210000
DTSTAMP:20260425T072849
CREATED:20180227T064029Z
LAST-MODIFIED:20210208T033614Z
UID:12066-1615748400-1615755600@camdenrsl.com.au
SUMMARY:Lucky Members Badge Draw
DESCRIPTION:Come on down for the Lucky Members Badge Draw on a Sunday Night\nThe draw is done at random between 7pm and 9pm \nIf the prize is not won\, the amount jackpots $50 to Fridays draw\nIf the prize is won\, the amount re-starts at $500 next Fridays draw \nIf your number is drawn out you have 4 minutes to claim your prize\nMembers must be present in the club at the time of the draw to claim your prize\nThe maximum prize is $5000 \nTerms & Conditions\nLTPS/15/06115
URL:https://camdenrsl.com.au/event/lucky-members-badge-draw-2-2021-03-14/
LOCATION:Camden R.S.L.\, 23 Cawdor Rd\, Camden\, NSW\, 2570\, Australia
END:VEVENT
BEGIN:VEVENT
DTSTART;TZID=Australia/Sydney:20210315T110000
DTEND;TZID=Australia/Sydney:20210315T110000
DTSTAMP:20260425T072849
CREATED:20180301T010041Z
LAST-MODIFIED:20210406T035916Z
UID:12264-1615806000-1615806000@camdenrsl.com.au
SUMMARY:Camden Legacy Widows Club
DESCRIPTION:The Camden Legacy Widows Club\nmeets at the Camden R.S.L. Club on the\nThird Monday of each month at 11am.
URL:https://camdenrsl.com.au/event/camden-legacy-widows-club-2021-03-15/
LOCATION:NSW
END:VEVENT
BEGIN:VEVENT
DTSTART;TZID=Australia/Sydney:20210317T093000
DTEND;TZID=Australia/Sydney:20210317T093000
DTSTAMP:20260425T072849
CREATED:20180301T004543Z
LAST-MODIFIED:20180301T004543Z
UID:13761-1615973400-1615973400@camdenrsl.com.au
SUMMARY:MIXED SOCIAL BOWLS
DESCRIPTION:EVERY WEDNESDAY \nThe Camden R.S.L. Club is a great and friendly place to come and play Lawn Bowls. \nMixed Mufti Social Bowls – All Welcome
URL:https://camdenrsl.com.au/event/social-bowls-2021-03-17/
LOCATION:NSW
END:VEVENT
BEGIN:VEVENT
DTSTART;TZID=Australia/Sydney:20210319T190000
DTEND;TZID=Australia/Sydney:20210319T210000
DTSTAMP:20260425T072849
CREATED:20180227T061758Z
LAST-MODIFIED:20180227T061758Z
UID:11918-1616180400-1616187600@camdenrsl.com.au
SUMMARY:Lucky Members Badge Draw
DESCRIPTION:Come on down for the Lucky Members Badge Draw on a Friday Night\nThe draw is done at random between 7pm and 9pm \nIf the prize is not won\, the amount jackpots $50 to Sundays draw\nIf the prize is won\, the amount re-starts at $500 next Sundays draw \nIf your number is drawn out you have 4 minutes to claim your prize\nMembers must be present in the club at the time of the draw to claim your prize\nThe maximum prize is $5000 \nTerms & Conditions\nLTPS/15/06115
URL:https://camdenrsl.com.au/event/lucky-members-badge-draw-2021-03-19/
LOCATION:Camden R.S.L.\, 23 Cawdor Rd\, Camden\, NSW\, 2570\, Australia
END:VEVENT
BEGIN:VEVENT
DTSTART;TZID=Australia/Sydney:20210321T190000
DTEND;TZID=Australia/Sydney:20210321T210000
DTSTAMP:20260425T072849
CREATED:20180227T064029Z
LAST-MODIFIED:20210208T033616Z
UID:12067-1616353200-1616360400@camdenrsl.com.au
SUMMARY:Lucky Members Badge Draw
DESCRIPTION:Come on down for the Lucky Members Badge Draw on a Sunday Night\nThe draw is done at random between 7pm and 9pm \nIf the prize is not won\, the amount jackpots $50 to Fridays draw\nIf the prize is won\, the amount re-starts at $500 next Fridays draw \nIf your number is drawn out you have 4 minutes to claim your prize\nMembers must be present in the club at the time of the draw to claim your prize\nThe maximum prize is $5000 \nTerms & Conditions\nLTPS/15/06115
URL:https://camdenrsl.com.au/event/lucky-members-badge-draw-2-2021-03-21/
LOCATION:Camden R.S.L.\, 23 Cawdor Rd\, Camden\, NSW\, 2570\, Australia
END:VEVENT
BEGIN:VEVENT
DTSTART;TZID=Australia/Sydney:20210324T093000
DTEND;TZID=Australia/Sydney:20210324T093000
DTSTAMP:20260425T072849
CREATED:20180301T004543Z
LAST-MODIFIED:20180301T004543Z
UID:13762-1616578200-1616578200@camdenrsl.com.au
SUMMARY:MIXED SOCIAL BOWLS
DESCRIPTION:EVERY WEDNESDAY \nThe Camden R.S.L. Club is a great and friendly place to come and play Lawn Bowls. \nMixed Mufti Social Bowls – All Welcome
URL:https://camdenrsl.com.au/event/social-bowls-2021-03-24/
LOCATION:NSW
END:VEVENT
BEGIN:VEVENT
DTSTART;TZID=Australia/Sydney:20210326T190000
DTEND;TZID=Australia/Sydney:20210326T210000
DTSTAMP:20260425T072849
CREATED:20180227T061758Z
LAST-MODIFIED:20180227T061758Z
UID:11919-1616785200-1616792400@camdenrsl.com.au
SUMMARY:Lucky Members Badge Draw
DESCRIPTION:Come on down for the Lucky Members Badge Draw on a Friday Night\nThe draw is done at random between 7pm and 9pm \nIf the prize is not won\, the amount jackpots $50 to Sundays draw\nIf the prize is won\, the amount re-starts at $500 next Sundays draw \nIf your number is drawn out you have 4 minutes to claim your prize\nMembers must be present in the club at the time of the draw to claim your prize\nThe maximum prize is $5000 \nTerms & Conditions\nLTPS/15/06115
URL:https://camdenrsl.com.au/event/lucky-members-badge-draw-2021-03-26/
LOCATION:Camden R.S.L.\, 23 Cawdor Rd\, Camden\, NSW\, 2570\, Australia
END:VEVENT
BEGIN:VEVENT
DTSTART;TZID=Australia/Sydney:20210328T190000
DTEND;TZID=Australia/Sydney:20210328T210000
DTSTAMP:20260425T072849
CREATED:20180227T064029Z
LAST-MODIFIED:20210208T033616Z
UID:12068-1616958000-1616965200@camdenrsl.com.au
SUMMARY:Lucky Members Badge Draw
DESCRIPTION:Come on down for the Lucky Members Badge Draw on a Sunday Night\nThe draw is done at random between 7pm and 9pm \nIf the prize is not won\, the amount jackpots $50 to Fridays draw\nIf the prize is won\, the amount re-starts at $500 next Fridays draw \nIf your number is drawn out you have 4 minutes to claim your prize\nMembers must be present in the club at the time of the draw to claim your prize\nThe maximum prize is $5000 \nTerms & Conditions\nLTPS/15/06115
URL:https://camdenrsl.com.au/event/lucky-members-badge-draw-2-2021-03-28/
LOCATION:Camden R.S.L.\, 23 Cawdor Rd\, Camden\, NSW\, 2570\, Australia
END:VEVENT
BEGIN:VEVENT
DTSTART;TZID=Australia/Sydney:20210331T093000
DTEND;TZID=Australia/Sydney:20210331T093000
DTSTAMP:20260425T072849
CREATED:20180301T004543Z
LAST-MODIFIED:20180301T004543Z
UID:13763-1617183000-1617183000@camdenrsl.com.au
SUMMARY:MIXED SOCIAL BOWLS
DESCRIPTION:EVERY WEDNESDAY \nThe Camden R.S.L. Club is a great and friendly place to come and play Lawn Bowls. \nMixed Mufti Social Bowls – All Welcome
URL:https://camdenrsl.com.au/event/social-bowls-2021-03-31/
LOCATION:NSW
END:VEVENT
BEGIN:VEVENT
DTSTART;TZID=Australia/Sydney:20210331T153000
DTEND;TZID=Australia/Sydney:20210331T173000
DTSTAMP:20260425T072849
CREATED:20180227T041716Z
LAST-MODIFIED:20210406T034220Z
UID:2015-1617204600-1617211800@camdenrsl.com.au
SUMMARY:Member's Happy Hour
DESCRIPTION:  \nDAILY\n3:30pm to 5:30 \n$4.50 Schooners and Glass of Wine
URL:https://camdenrsl.com.au/event/happy-2-hours/
LOCATION:Camden R.S.L.\, 23 Cawdor Rd\, Camden\, NSW\, 2570\, Australia
END:VEVENT
BEGIN:VEVENT
DTSTART;TZID=Australia/Sydney:20210401T093000
DTEND;TZID=Australia/Sydney:20210401T093000
DTSTAMP:20260425T072849
CREATED:20180301T004543Z
LAST-MODIFIED:20210331T053630Z
UID:7926-1617269400-1617269400@camdenrsl.com.au
SUMMARY:MIXED SOCIAL BOWLS
DESCRIPTION:EVERY WEDNESDAY \nThe Camden R.S.L. Club is a great and friendly place to come and play Lawn Bowls. \nMixed Mufti Social Bowls – All Welcome
URL:https://camdenrsl.com.au/event/social-bowls/
LOCATION:NSW
END:VEVENT
BEGIN:VEVENT
DTSTART;TZID=Australia/Sydney:20210401T153000
DTEND;TZID=Australia/Sydney:20210401T173000
DTSTAMP:20260425T072849
CREATED:20180227T041716Z
LAST-MODIFIED:20180227T041716Z
UID:13991-1617291000-1617298200@camdenrsl.com.au
SUMMARY:Member's Happy Hour
DESCRIPTION:  \nDAILY\n3:30pm to 5:30 \n$4.50 Schooners and Glass of Wine
URL:https://camdenrsl.com.au/event/happy-2-hours-2021-04-01/
LOCATION:Camden R.S.L.\, 23 Cawdor Rd\, Camden\, NSW\, 2570\, Australia
END:VEVENT
BEGIN:VEVENT
DTSTART;TZID=Australia/Sydney:20210402T153000
DTEND;TZID=Australia/Sydney:20210402T173000
DTSTAMP:20260425T072849
CREATED:20180227T041716Z
LAST-MODIFIED:20180227T041716Z
UID:13992-1617377400-1617384600@camdenrsl.com.au
SUMMARY:Member's Happy Hour
DESCRIPTION:  \nDAILY\n3:30pm to 5:30 \n$4.50 Schooners and Glass of Wine
URL:https://camdenrsl.com.au/event/happy-2-hours-2021-04-02/
LOCATION:Camden R.S.L.\, 23 Cawdor Rd\, Camden\, NSW\, 2570\, Australia
END:VEVENT
BEGIN:VEVENT
DTSTART;TZID=Australia/Sydney:20210402T190000
DTEND;TZID=Australia/Sydney:20210402T210000
DTSTAMP:20260425T072849
CREATED:20180227T061758Z
LAST-MODIFIED:20180227T061758Z
UID:11920-1617390000-1617397200@camdenrsl.com.au
SUMMARY:Lucky Members Badge Draw
DESCRIPTION:Come on down for the Lucky Members Badge Draw on a Friday Night\nThe draw is done at random between 7pm and 9pm \nIf the prize is not won\, the amount jackpots $50 to Sundays draw\nIf the prize is won\, the amount re-starts at $500 next Sundays draw \nIf your number is drawn out you have 4 minutes to claim your prize\nMembers must be present in the club at the time of the draw to claim your prize\nThe maximum prize is $5000 \nTerms & Conditions\nLTPS/15/06115
URL:https://camdenrsl.com.au/event/lucky-members-badge-draw-2021-04-02/
LOCATION:Camden R.S.L.\, 23 Cawdor Rd\, Camden\, NSW\, 2570\, Australia
END:VEVENT
BEGIN:VEVENT
DTSTART;TZID=Australia/Sydney:20210403T153000
DTEND;TZID=Australia/Sydney:20210403T173000
DTSTAMP:20260425T072849
CREATED:20180227T041716Z
LAST-MODIFIED:20180227T041716Z
UID:13993-1617463800-1617471000@camdenrsl.com.au
SUMMARY:Member's Happy Hour
DESCRIPTION:  \nDAILY\n3:30pm to 5:30 \n$4.50 Schooners and Glass of Wine
URL:https://camdenrsl.com.au/event/happy-2-hours-2021-04-03/
LOCATION:Camden R.S.L.\, 23 Cawdor Rd\, Camden\, NSW\, 2570\, Australia
END:VEVENT
BEGIN:VEVENT
DTSTART;TZID=Australia/Sydney:20210404T153000
DTEND;TZID=Australia/Sydney:20210404T173000
DTSTAMP:20260425T072849
CREATED:20180227T041716Z
LAST-MODIFIED:20180227T041716Z
UID:13994-1617550200-1617557400@camdenrsl.com.au
SUMMARY:Member's Happy Hour
DESCRIPTION:  \nDAILY\n3:30pm to 5:30 \n$4.50 Schooners and Glass of Wine
URL:https://camdenrsl.com.au/event/happy-2-hours-2021-04-04/
LOCATION:Camden R.S.L.\, 23 Cawdor Rd\, Camden\, NSW\, 2570\, Australia
END:VEVENT
BEGIN:VEVENT
DTSTART;TZID=Australia/Sydney:20210404T190000
DTEND;TZID=Australia/Sydney:20210404T210000
DTSTAMP:20260425T072849
CREATED:20180227T064029Z
LAST-MODIFIED:20210208T033616Z
UID:12069-1617562800-1617570000@camdenrsl.com.au
SUMMARY:Lucky Members Badge Draw
DESCRIPTION:Come on down for the Lucky Members Badge Draw on a Sunday Night\nThe draw is done at random between 7pm and 9pm \nIf the prize is not won\, the amount jackpots $50 to Fridays draw\nIf the prize is won\, the amount re-starts at $500 next Fridays draw \nIf your number is drawn out you have 4 minutes to claim your prize\nMembers must be present in the club at the time of the draw to claim your prize\nThe maximum prize is $5000 \nTerms & Conditions\nLTPS/15/06115
URL:https://camdenrsl.com.au/event/lucky-members-badge-draw-2-2021-04-04/
LOCATION:Camden R.S.L.\, 23 Cawdor Rd\, Camden\, NSW\, 2570\, Australia
END:VEVENT
BEGIN:VEVENT
DTSTART;TZID=Australia/Sydney:20210405T153000
DTEND;TZID=Australia/Sydney:20210405T173000
DTSTAMP:20260425T072849
CREATED:20180227T041716Z
LAST-MODIFIED:20180227T041716Z
UID:13995-1617636600-1617643800@camdenrsl.com.au
SUMMARY:Member's Happy Hour
DESCRIPTION:  \nDAILY\n3:30pm to 5:30 \n$4.50 Schooners and Glass of Wine
URL:https://camdenrsl.com.au/event/happy-2-hours-2021-04-05/
LOCATION:Camden R.S.L.\, 23 Cawdor Rd\, Camden\, NSW\, 2570\, Australia
END:VEVENT
BEGIN:VEVENT
DTSTART;TZID=Australia/Sydney:20210406T093000
DTEND;TZID=Australia/Sydney:20210406T093000
DTSTAMP:20260425T072849
CREATED:20210406T022337Z
LAST-MODIFIED:20210406T022337Z
UID:14027-1617701400-1617701400@camdenrsl.com.au
SUMMARY:Mixed Social Bowls
DESCRIPTION:The Camden R.S.L. Club is a great and friendly place to come and play Lawn Bowls. \nMonday Mixed  Social Bowls – All Welcome
URL:https://camdenrsl.com.au/event/mixed-social-bowls/
LOCATION:Camden R.S.L.\, 23 Cawdor Rd\, Camden\, NSW\, 2570\, Australia
END:VEVENT
BEGIN:VEVENT
DTSTART;TZID=Australia/Sydney:20210406T153000
DTEND;TZID=Australia/Sydney:20210406T173000
DTSTAMP:20260425T072849
CREATED:20180227T041716Z
LAST-MODIFIED:20180227T041716Z
UID:13996-1617723000-1617730200@camdenrsl.com.au
SUMMARY:Member's Happy Hour
DESCRIPTION:  \nDAILY\n3:30pm to 5:30 \n$4.50 Schooners and Glass of Wine
URL:https://camdenrsl.com.au/event/happy-2-hours-2021-04-06/
LOCATION:Camden R.S.L.\, 23 Cawdor Rd\, Camden\, NSW\, 2570\, Australia
END:VEVENT
BEGIN:VEVENT
DTSTART;TZID=Australia/Sydney:20210406T184500
DTEND;TZID=Australia/Sydney:20210406T184500
DTSTAMP:20260425T072849
CREATED:20180227T064610Z
LAST-MODIFIED:20210406T021016Z
UID:12353-1617734700-1617734700@camdenrsl.com.au
SUMMARY:Social Darts Club
DESCRIPTION:Come along for a great\, fun\, friendly night of Darts. \nMixed Social games where everyone gets involved and enjoys themselves – Ladies and Gents.\nBeginners are very welcome – Darts are provided or bring your own. \nNames taken on the night by 6.45pm. Games start at 7.00pm. \nIt costs $3 to play and there are cash and other prizes each night.
URL:https://camdenrsl.com.au/event/social-darts-club-2021-04-13/
LOCATION:Camden R.S.L.\, 23 Cawdor Rd\, Camden\, NSW\, 2570\, Australia
END:VEVENT
BEGIN:VEVENT
DTSTART;TZID=Australia/Sydney:20210407T093000
DTEND;TZID=Australia/Sydney:20210407T093000
DTSTAMP:20260425T072849
CREATED:20180301T004543Z
LAST-MODIFIED:20180301T004543Z
UID:13764-1617787800-1617787800@camdenrsl.com.au
SUMMARY:MIXED SOCIAL BOWLS
DESCRIPTION:EVERY WEDNESDAY \nThe Camden R.S.L. Club is a great and friendly place to come and play Lawn Bowls. \nMixed Mufti Social Bowls – All Welcome
URL:https://camdenrsl.com.au/event/social-bowls-2021-04-07/
LOCATION:NSW
END:VEVENT
BEGIN:VEVENT
DTSTART;TZID=Australia/Sydney:20210407T153000
DTEND;TZID=Australia/Sydney:20210407T173000
DTSTAMP:20260425T072849
CREATED:20180227T041716Z
LAST-MODIFIED:20180227T041716Z
UID:13997-1617809400-1617816600@camdenrsl.com.au
SUMMARY:Member's Happy Hour
DESCRIPTION:  \nDAILY\n3:30pm to 5:30 \n$4.50 Schooners and Glass of Wine
URL:https://camdenrsl.com.au/event/happy-2-hours-2021-04-07/
LOCATION:Camden R.S.L.\, 23 Cawdor Rd\, Camden\, NSW\, 2570\, Australia
END:VEVENT
BEGIN:VEVENT
DTSTART;TZID=Australia/Sydney:20210408T093000
DTEND;TZID=Australia/Sydney:20210408T093000
DTSTAMP:20260425T072849
CREATED:20180227T233351Z
LAST-MODIFIED:20210406T034003Z
UID:5130-1617874200-1617874200@camdenrsl.com.au
SUMMARY:BINGO Cash Housie
DESCRIPTION:EVERY THURSDAY\nin support of the Lifeline Macarthur \nReturns with Social Distancing in place. \n 
URL:https://camdenrsl.com.au/event/bingo-cash-housie/
LOCATION:Camden R.S.L.\, 23 Cawdor Rd\, Camden\, NSW\, 2570\, Australia
ATTACH;FMTTYPE=image/jpeg:https://camdenrsl.com.au/wp-content/uploads/2020/11/Bingo_cashhousie_PLASMA-1-1.jpg
END:VEVENT
BEGIN:VEVENT
DTSTART;TZID=Australia/Sydney:20210408T153000
DTEND;TZID=Australia/Sydney:20210408T173000
DTSTAMP:20260425T072849
CREATED:20180227T041716Z
LAST-MODIFIED:20180227T041716Z
UID:13998-1617895800-1617903000@camdenrsl.com.au
SUMMARY:Member's Happy Hour
DESCRIPTION:  \nDAILY\n3:30pm to 5:30 \n$4.50 Schooners and Glass of Wine
URL:https://camdenrsl.com.au/event/happy-2-hours-2021-04-08/
LOCATION:Camden R.S.L.\, 23 Cawdor Rd\, Camden\, NSW\, 2570\, Australia
END:VEVENT
BEGIN:VEVENT
DTSTART;TZID=Australia/Sydney:20210408T190000
DTEND;TZID=Australia/Sydney:20210408T190000
DTSTAMP:20260425T072849
CREATED:20180411T062417Z
LAST-MODIFIED:20210406T034611Z
UID:10202-1617908400-1617908400@camdenrsl.com.au
SUMMARY:Poker Night
DESCRIPTION:THURSDAY \nLots of fun\, bring your ‘poker face’ and challenge yourself.
URL:https://camdenrsl.com.au/event/poker/
LOCATION:Camden R.S.L.\, 23 Cawdor Rd\, Camden\, NSW\, 2570\, Australia
END:VEVENT
BEGIN:VEVENT
DTSTART;TZID=Australia/Sydney:20210409T153000
DTEND;TZID=Australia/Sydney:20210409T173000
DTSTAMP:20260425T072849
CREATED:20180227T041716Z
LAST-MODIFIED:20180227T041716Z
UID:13999-1617982200-1617989400@camdenrsl.com.au
SUMMARY:Member's Happy Hour
DESCRIPTION:  \nDAILY\n3:30pm to 5:30 \n$4.50 Schooners and Glass of Wine
URL:https://camdenrsl.com.au/event/happy-2-hours-2021-04-09/
LOCATION:Camden R.S.L.\, 23 Cawdor Rd\, Camden\, NSW\, 2570\, Australia
END:VEVENT
BEGIN:VEVENT
DTSTART;TZID=Australia/Sydney:20210409T173000
DTEND;TZID=Australia/Sydney:20210409T173000
DTSTAMP:20260425T072849
CREATED:20180227T060821Z
LAST-MODIFIED:20211028T033921Z
UID:4303-1617989400-1617989400@camdenrsl.com.au
SUMMARY:Meat Raffles plus Caltex Fuel Cards
DESCRIPTION:Raffles
URL:https://camdenrsl.com.au/event/fill-the-fridge-meat-raffles-2019-04-07/
LOCATION:Camden R.S.L.\, 23 Cawdor Rd\, Camden\, NSW\, 2570\, Australia
END:VEVENT
END:VCALENDAR