BEGIN:VCALENDAR
VERSION:2.0
PRODID:-//Camden RSL - ECPv6.15.20//NONSGML v1.0//EN
CALSCALE:GREGORIAN
METHOD:PUBLISH
X-ORIGINAL-URL:https://camdenrsl.com.au
X-WR-CALDESC:Events for Camden RSL
REFRESH-INTERVAL;VALUE=DURATION:PT1H
X-Robots-Tag:noindex
X-PUBLISHED-TTL:PT1H
BEGIN:VTIMEZONE
TZID:Australia/Sydney
BEGIN:STANDARD
TZOFFSETFROM:+1100
TZOFFSETTO:+1000
TZNAME:AEST
DTSTART:20220402T160000
END:STANDARD
BEGIN:DAYLIGHT
TZOFFSETFROM:+1000
TZOFFSETTO:+1100
TZNAME:AEDT
DTSTART:20221001T160000
END:DAYLIGHT
BEGIN:STANDARD
TZOFFSETFROM:+1100
TZOFFSETTO:+1000
TZNAME:AEST
DTSTART:20230401T160000
END:STANDARD
BEGIN:DAYLIGHT
TZOFFSETFROM:+1000
TZOFFSETTO:+1100
TZNAME:AEDT
DTSTART:20230930T160000
END:DAYLIGHT
BEGIN:STANDARD
TZOFFSETFROM:+1100
TZOFFSETTO:+1000
TZNAME:AEST
DTSTART:20240406T160000
END:STANDARD
BEGIN:DAYLIGHT
TZOFFSETFROM:+1000
TZOFFSETTO:+1100
TZNAME:AEDT
DTSTART:20241005T160000
END:DAYLIGHT
END:VTIMEZONE
BEGIN:VEVENT
DTSTART;TZID=Australia/Sydney:20230414T153000
DTEND;TZID=Australia/Sydney:20230414T173000
DTSTAMP:20260425T073112
CREATED:20180227T041716Z
LAST-MODIFIED:20180227T041716Z
UID:14411-1681486200-1681493400@camdenrsl.com.au
SUMMARY:Member's Happy Hour
DESCRIPTION:  \nDAILY\n3:30pm to 5:30 \n$4.50 Schooners and Glass of Wine
URL:https://camdenrsl.com.au/event/happy-2-hours-2023-04-14/
LOCATION:Camden R.S.L.\, 23 Cawdor Rd\, Camden\, NSW\, 2570\, Australia
END:VEVENT
BEGIN:VEVENT
DTSTART;TZID=Australia/Sydney:20230414T173000
DTEND;TZID=Australia/Sydney:20230414T173000
DTSTAMP:20260425T073112
CREATED:20180227T060821Z
LAST-MODIFIED:20180227T060821Z
UID:14410-1681493400-1681493400@camdenrsl.com.au
SUMMARY:Meat Raffles plus Caltex Star Cards
DESCRIPTION:Raffles
URL:https://camdenrsl.com.au/event/fill-the-fridge-meat-raffles-2019-04-07-2023-04-14/
LOCATION:Camden R.S.L.\, 23 Cawdor Rd\, Camden\, NSW\, 2570\, Australia
END:VEVENT
BEGIN:VEVENT
DTSTART;TZID=Australia/Sydney:20230414T190000
DTEND;TZID=Australia/Sydney:20230414T210000
DTSTAMP:20260425T073112
CREATED:20180227T061758Z
LAST-MODIFIED:20180227T061758Z
UID:14409-1681498800-1681506000@camdenrsl.com.au
SUMMARY:Lucky Members Badge Draw
DESCRIPTION:Come on down for the Lucky Members Badge Draw on a Friday Night\nThe draw is done at random between 7pm and 9pm \nIf the prize is not won\, the amount jackpots $50 to Sundays draw\nIf the prize is won\, the amount re-starts at $500 next Sundays draw \nIf your number is drawn out you have 4 minutes to claim your prize\nMembers must be present in the club at the time of the draw to claim your prize\nThe maximum prize is $5000 \nTerms & Conditions\nLTPS/15/06115
URL:https://camdenrsl.com.au/event/lucky-members-badge-draw-2023-04-14/
LOCATION:Camden R.S.L.\, 23 Cawdor Rd\, Camden\, NSW\, 2570\, Australia
END:VEVENT
BEGIN:VEVENT
DTSTART;TZID=Australia/Sydney:20230415T153000
DTEND;TZID=Australia/Sydney:20230415T173000
DTSTAMP:20260425T073112
CREATED:20180227T041716Z
LAST-MODIFIED:20180227T041716Z
UID:14413-1681572600-1681579800@camdenrsl.com.au
SUMMARY:Member's Happy Hour
DESCRIPTION:  \nDAILY\n3:30pm to 5:30 \n$4.50 Schooners and Glass of Wine
URL:https://camdenrsl.com.au/event/happy-2-hours-2023-04-15/
LOCATION:Camden R.S.L.\, 23 Cawdor Rd\, Camden\, NSW\, 2570\, Australia
END:VEVENT
BEGIN:VEVENT
DTSTART;TZID=Australia/Sydney:20230415T190000
DTEND;TZID=Australia/Sydney:20230415T220000
DTSTAMP:20260425T073112
CREATED:20210406T011545Z
LAST-MODIFIED:20210406T011545Z
UID:14412-1681585200-1681596000@camdenrsl.com.au
SUMMARY:Saturday Night Entertainment
DESCRIPTION:Saturday Nights\nUnwind at Camden RSL with our live entertainment every Saturday night\nCheck our Entertainment schedule to see who’s playing
URL:https://camdenrsl.com.au/event/saturday-night-entertainment-2023-04-15/
LOCATION:Camden R.S.L.\, 23 Cawdor Rd\, Camden\, NSW\, 2570\, Australia
END:VEVENT
BEGIN:VEVENT
DTSTART;TZID=Australia/Sydney:20230416T153000
DTEND;TZID=Australia/Sydney:20230416T173000
DTSTAMP:20260425T073112
CREATED:20180227T041716Z
LAST-MODIFIED:20180227T041716Z
UID:14416-1681659000-1681666200@camdenrsl.com.au
SUMMARY:Member's Happy Hour
DESCRIPTION:  \nDAILY\n3:30pm to 5:30 \n$4.50 Schooners and Glass of Wine
URL:https://camdenrsl.com.au/event/happy-2-hours-2023-04-16/
LOCATION:Camden R.S.L.\, 23 Cawdor Rd\, Camden\, NSW\, 2570\, Australia
END:VEVENT
BEGIN:VEVENT
DTSTART;TZID=Australia/Sydney:20230416T173000
DTEND;TZID=Australia/Sydney:20230416T173000
DTSTAMP:20260425T073112
CREATED:20180227T060821Z
LAST-MODIFIED:20180227T060821Z
UID:14415-1681666200-1681666200@camdenrsl.com.au
SUMMARY:Meat Raffles plus Caltex Star Cards
DESCRIPTION:Raffles
URL:https://camdenrsl.com.au/event/fill-the-fridge-meat-raffles-2019-04-07-2023-04-16/
LOCATION:Camden R.S.L.\, 23 Cawdor Rd\, Camden\, NSW\, 2570\, Australia
END:VEVENT
BEGIN:VEVENT
DTSTART;TZID=Australia/Sydney:20230416T190000
DTEND;TZID=Australia/Sydney:20230416T210000
DTSTAMP:20260425T073112
CREATED:20180227T064029Z
LAST-MODIFIED:20180227T064029Z
UID:14414-1681671600-1681678800@camdenrsl.com.au
SUMMARY:Lucky Members Badge Draw
DESCRIPTION:Come on down for the Lucky Members Badge Draw on a Sunday Night\nThe draw is done at random between 7pm and 9pm \nIf the prize is not won\, the amount jackpots $50 to Fridays draw\nIf the prize is won\, the amount re-starts at $500 next Fridays draw \nIf your number is drawn out you have 4 minutes to claim your prize\nMembers must be present in the club at the time of the draw to claim your prize\nThe maximum prize is $5000 \nTerms & Conditions\nLTPS/15/06115
URL:https://camdenrsl.com.au/event/lucky-members-badge-draw-2-2023-04-16/
LOCATION:Camden R.S.L.\, 23 Cawdor Rd\, Camden\, NSW\, 2570\, Australia
END:VEVENT
BEGIN:VEVENT
DTSTART;TZID=Australia/Sydney:20230417T093000
DTEND;TZID=Australia/Sydney:20230417T093000
DTSTAMP:20260425T073112
CREATED:20210406T022337Z
LAST-MODIFIED:20210406T022337Z
UID:14418-1681723800-1681723800@camdenrsl.com.au
SUMMARY:Mixed Social Bowls
DESCRIPTION:The Camden R.S.L. Club is a great and friendly place to come and play Lawn Bowls. \nMonday Mixed  Social Bowls – All Welcome
URL:https://camdenrsl.com.au/event/mixed-social-bowls-2023-04-17/
LOCATION:Camden R.S.L.\, 23 Cawdor Rd\, Camden\, NSW\, 2570\, Australia
END:VEVENT
BEGIN:VEVENT
DTSTART;TZID=Australia/Sydney:20230417T110000
DTEND;TZID=Australia/Sydney:20230417T110000
DTSTAMP:20260425T073112
CREATED:20180301T010041Z
LAST-MODIFIED:20180301T010041Z
UID:14417-1681729200-1681729200@camdenrsl.com.au
SUMMARY:Camden Legacy Widows Club
DESCRIPTION:The Camden Legacy Widows Club\nmeets at the Camden R.S.L. Club on the\nThird Monday of each month at 11am.
URL:https://camdenrsl.com.au/event/camden-legacy-widows-club-2023-04-17/
LOCATION:NSW
END:VEVENT
BEGIN:VEVENT
DTSTART;TZID=Australia/Sydney:20230417T153000
DTEND;TZID=Australia/Sydney:20230417T173000
DTSTAMP:20260425T073112
CREATED:20180227T041716Z
LAST-MODIFIED:20180227T041716Z
UID:14419-1681745400-1681752600@camdenrsl.com.au
SUMMARY:Member's Happy Hour
DESCRIPTION:  \nDAILY\n3:30pm to 5:30 \n$4.50 Schooners and Glass of Wine
URL:https://camdenrsl.com.au/event/happy-2-hours-2023-04-17/
LOCATION:Camden R.S.L.\, 23 Cawdor Rd\, Camden\, NSW\, 2570\, Australia
END:VEVENT
BEGIN:VEVENT
DTSTART;TZID=Australia/Sydney:20230418T093000
DTEND;TZID=Australia/Sydney:20230418T103000
DTSTAMP:20260425T073112
CREATED:20180411T054538Z
LAST-MODIFIED:20180411T054538Z
UID:15338-1681810200-1681813800@camdenrsl.com.au
SUMMARY:Ladies Bowls
DESCRIPTION:EVERY TUESDAY \nThe Camden R.S.L. Club is a great and friendly place to come and play Lawn Bowls. \nThere is serious games\, and also fun mufti games played regularly
URL:https://camdenrsl.com.au/event/ladies-bowls-2023-04-18/
LOCATION:NSW
END:VEVENT
BEGIN:VEVENT
DTSTART;TZID=Australia/Sydney:20230418T153000
DTEND;TZID=Australia/Sydney:20230418T173000
DTSTAMP:20260425T073112
CREATED:20180227T041716Z
LAST-MODIFIED:20180227T041716Z
UID:14421-1681831800-1681839000@camdenrsl.com.au
SUMMARY:Member's Happy Hour
DESCRIPTION:  \nDAILY\n3:30pm to 5:30 \n$4.50 Schooners and Glass of Wine
URL:https://camdenrsl.com.au/event/happy-2-hours-2023-04-18/
LOCATION:Camden R.S.L.\, 23 Cawdor Rd\, Camden\, NSW\, 2570\, Australia
END:VEVENT
BEGIN:VEVENT
DTSTART;TZID=Australia/Sydney:20230418T184500
DTEND;TZID=Australia/Sydney:20230418T184500
DTSTAMP:20260425T073112
CREATED:20180227T064610Z
LAST-MODIFIED:20180227T064610Z
UID:14420-1681843500-1681843500@camdenrsl.com.au
SUMMARY:Social Darts Club
DESCRIPTION:Come along for a great\, fun\, friendly night of Darts. \nMixed Social games where everyone gets involved and enjoys themselves – Ladies and Gents.\nBeginners are very welcome – Darts are provided or bring your own. \nNames taken on the night by 6.45pm. Games start at 7.00pm. \nIt costs $3 to play and there are cash and other prizes each night.
URL:https://camdenrsl.com.au/event/social-darts-club-2023-04-18/
LOCATION:Camden R.S.L.\, 23 Cawdor Rd\, Camden\, NSW\, 2570\, Australia
END:VEVENT
BEGIN:VEVENT
DTSTART;TZID=Australia/Sydney:20230419T093000
DTEND;TZID=Australia/Sydney:20230419T093000
DTSTAMP:20260425T073112
CREATED:20180301T004543Z
LAST-MODIFIED:20180301T004543Z
UID:14422-1681896600-1681896600@camdenrsl.com.au
SUMMARY:MIXED SOCIAL BOWLS
DESCRIPTION:EVERY WEDNESDAY \nThe Camden R.S.L. Club is a great and friendly place to come and play Lawn Bowls. \nMixed Mufti Social Bowls – All Welcome
URL:https://camdenrsl.com.au/event/social-bowls-2023-04-19/
LOCATION:NSW
END:VEVENT
BEGIN:VEVENT
DTSTART;TZID=Australia/Sydney:20230419T153000
DTEND;TZID=Australia/Sydney:20230419T173000
DTSTAMP:20260425T073112
CREATED:20180227T041716Z
LAST-MODIFIED:20180227T041716Z
UID:14423-1681918200-1681925400@camdenrsl.com.au
SUMMARY:Member's Happy Hour
DESCRIPTION:  \nDAILY\n3:30pm to 5:30 \n$4.50 Schooners and Glass of Wine
URL:https://camdenrsl.com.au/event/happy-2-hours-2023-04-19/
LOCATION:Camden R.S.L.\, 23 Cawdor Rd\, Camden\, NSW\, 2570\, Australia
END:VEVENT
BEGIN:VEVENT
DTSTART;TZID=Australia/Sydney:20230420T093000
DTEND;TZID=Australia/Sydney:20230420T093000
DTSTAMP:20260425T073112
CREATED:20180227T233351Z
LAST-MODIFIED:20180227T233351Z
UID:14424-1681983000-1681983000@camdenrsl.com.au
SUMMARY:BINGO Cash Housie
DESCRIPTION:EVERY THURSDAY\nin support of the Lifeline Macarthur \nReturns with Social Distancing in place. \n 
URL:https://camdenrsl.com.au/event/bingo-cash-housie-2023-04-20/
LOCATION:Camden R.S.L.\, 23 Cawdor Rd\, Camden\, NSW\, 2570\, Australia
ATTACH;FMTTYPE=image/jpeg:https://camdenrsl.com.au/wp-content/uploads/2020/11/Bingo_cashhousie_PLASMA-1-1.jpg
END:VEVENT
BEGIN:VEVENT
DTSTART;TZID=Australia/Sydney:20230420T153000
DTEND;TZID=Australia/Sydney:20230420T173000
DTSTAMP:20260425T073112
CREATED:20180227T041716Z
LAST-MODIFIED:20180227T041716Z
UID:14426-1682004600-1682011800@camdenrsl.com.au
SUMMARY:Member's Happy Hour
DESCRIPTION:  \nDAILY\n3:30pm to 5:30 \n$4.50 Schooners and Glass of Wine
URL:https://camdenrsl.com.au/event/happy-2-hours-2023-04-20/
LOCATION:Camden R.S.L.\, 23 Cawdor Rd\, Camden\, NSW\, 2570\, Australia
END:VEVENT
BEGIN:VEVENT
DTSTART;TZID=Australia/Sydney:20230420T190000
DTEND;TZID=Australia/Sydney:20230420T190000
DTSTAMP:20260425T073112
CREATED:20180411T062417Z
LAST-MODIFIED:20180411T062417Z
UID:14425-1682017200-1682017200@camdenrsl.com.au
SUMMARY:Poker Night
DESCRIPTION:THURSDAY \nLots of fun\, bring your ‘poker face’ and challenge yourself.
URL:https://camdenrsl.com.au/event/poker-2023-04-20/
LOCATION:Camden R.S.L.\, 23 Cawdor Rd\, Camden\, NSW\, 2570\, Australia
END:VEVENT
BEGIN:VEVENT
DTSTART;TZID=Australia/Sydney:20230421T093000
DTEND;TZID=Australia/Sydney:20230421T093000
DTSTAMP:20260425T073112
CREATED:20210406T014428Z
LAST-MODIFIED:20210406T014428Z
UID:14427-1682069400-1682069400@camdenrsl.com.au
SUMMARY:Friendly Friday Social Bowls
DESCRIPTION:Friendly Friday Social Bowls \nEVERY Third Friday of the Month \nThe Camden R.S.L. Club is a great and friendly place to come and play Lawn Bowls. \nAll Welcome
URL:https://camdenrsl.com.au/event/friendly-friday-social-bowls-2023-04-21/
LOCATION:NSW
ATTACH;FMTTYPE=image/jpeg:https://camdenrsl.com.au/wp-content/uploads/2020/11/FriendlyFridayBowls-PlasmaLV2-1.jpg
END:VEVENT
BEGIN:VEVENT
DTSTART;TZID=Australia/Sydney:20230421T153000
DTEND;TZID=Australia/Sydney:20230421T173000
DTSTAMP:20260425T073112
CREATED:20180227T041716Z
LAST-MODIFIED:20180227T041716Z
UID:14430-1682091000-1682098200@camdenrsl.com.au
SUMMARY:Member's Happy Hour
DESCRIPTION:  \nDAILY\n3:30pm to 5:30 \n$4.50 Schooners and Glass of Wine
URL:https://camdenrsl.com.au/event/happy-2-hours-2023-04-21/
LOCATION:Camden R.S.L.\, 23 Cawdor Rd\, Camden\, NSW\, 2570\, Australia
END:VEVENT
BEGIN:VEVENT
DTSTART;TZID=Australia/Sydney:20230421T173000
DTEND;TZID=Australia/Sydney:20230421T173000
DTSTAMP:20260425T073112
CREATED:20180227T060821Z
LAST-MODIFIED:20180227T060821Z
UID:14429-1682098200-1682098200@camdenrsl.com.au
SUMMARY:Meat Raffles plus Caltex Star Cards
DESCRIPTION:Raffles
URL:https://camdenrsl.com.au/event/fill-the-fridge-meat-raffles-2019-04-07-2023-04-21/
LOCATION:Camden R.S.L.\, 23 Cawdor Rd\, Camden\, NSW\, 2570\, Australia
END:VEVENT
BEGIN:VEVENT
DTSTART;TZID=Australia/Sydney:20230421T190000
DTEND;TZID=Australia/Sydney:20230421T210000
DTSTAMP:20260425T073112
CREATED:20180227T061758Z
LAST-MODIFIED:20180227T061758Z
UID:14428-1682103600-1682110800@camdenrsl.com.au
SUMMARY:Lucky Members Badge Draw
DESCRIPTION:Come on down for the Lucky Members Badge Draw on a Friday Night\nThe draw is done at random between 7pm and 9pm \nIf the prize is not won\, the amount jackpots $50 to Sundays draw\nIf the prize is won\, the amount re-starts at $500 next Sundays draw \nIf your number is drawn out you have 4 minutes to claim your prize\nMembers must be present in the club at the time of the draw to claim your prize\nThe maximum prize is $5000 \nTerms & Conditions\nLTPS/15/06115
URL:https://camdenrsl.com.au/event/lucky-members-badge-draw-2023-04-21/
LOCATION:Camden R.S.L.\, 23 Cawdor Rd\, Camden\, NSW\, 2570\, Australia
END:VEVENT
BEGIN:VEVENT
DTSTART;TZID=Australia/Sydney:20230422T153000
DTEND;TZID=Australia/Sydney:20230422T173000
DTSTAMP:20260425T073112
CREATED:20180227T041716Z
LAST-MODIFIED:20180227T041716Z
UID:14432-1682177400-1682184600@camdenrsl.com.au
SUMMARY:Member's Happy Hour
DESCRIPTION:  \nDAILY\n3:30pm to 5:30 \n$4.50 Schooners and Glass of Wine
URL:https://camdenrsl.com.au/event/happy-2-hours-2023-04-22/
LOCATION:Camden R.S.L.\, 23 Cawdor Rd\, Camden\, NSW\, 2570\, Australia
END:VEVENT
BEGIN:VEVENT
DTSTART;TZID=Australia/Sydney:20230422T190000
DTEND;TZID=Australia/Sydney:20230422T220000
DTSTAMP:20260425T073112
CREATED:20210406T011545Z
LAST-MODIFIED:20210406T011545Z
UID:14431-1682190000-1682200800@camdenrsl.com.au
SUMMARY:Saturday Night Entertainment
DESCRIPTION:Saturday Nights\nUnwind at Camden RSL with our live entertainment every Saturday night\nCheck our Entertainment schedule to see who’s playing
URL:https://camdenrsl.com.au/event/saturday-night-entertainment-2023-04-22/
LOCATION:Camden R.S.L.\, 23 Cawdor Rd\, Camden\, NSW\, 2570\, Australia
END:VEVENT
BEGIN:VEVENT
DTSTART;TZID=Australia/Sydney:20230423T153000
DTEND;TZID=Australia/Sydney:20230423T173000
DTSTAMP:20260425T073112
CREATED:20180227T041716Z
LAST-MODIFIED:20180227T041716Z
UID:14435-1682263800-1682271000@camdenrsl.com.au
SUMMARY:Member's Happy Hour
DESCRIPTION:  \nDAILY\n3:30pm to 5:30 \n$4.50 Schooners and Glass of Wine
URL:https://camdenrsl.com.au/event/happy-2-hours-2023-04-23/
LOCATION:Camden R.S.L.\, 23 Cawdor Rd\, Camden\, NSW\, 2570\, Australia
END:VEVENT
BEGIN:VEVENT
DTSTART;TZID=Australia/Sydney:20230423T173000
DTEND;TZID=Australia/Sydney:20230423T173000
DTSTAMP:20260425T073112
CREATED:20180227T060821Z
LAST-MODIFIED:20180227T060821Z
UID:14434-1682271000-1682271000@camdenrsl.com.au
SUMMARY:Meat Raffles plus Caltex Star Cards
DESCRIPTION:Raffles
URL:https://camdenrsl.com.au/event/fill-the-fridge-meat-raffles-2019-04-07-2023-04-23/
LOCATION:Camden R.S.L.\, 23 Cawdor Rd\, Camden\, NSW\, 2570\, Australia
END:VEVENT
BEGIN:VEVENT
DTSTART;TZID=Australia/Sydney:20230423T190000
DTEND;TZID=Australia/Sydney:20230423T210000
DTSTAMP:20260425T073112
CREATED:20180227T064029Z
LAST-MODIFIED:20180227T064029Z
UID:14433-1682276400-1682283600@camdenrsl.com.au
SUMMARY:Lucky Members Badge Draw
DESCRIPTION:Come on down for the Lucky Members Badge Draw on a Sunday Night\nThe draw is done at random between 7pm and 9pm \nIf the prize is not won\, the amount jackpots $50 to Fridays draw\nIf the prize is won\, the amount re-starts at $500 next Fridays draw \nIf your number is drawn out you have 4 minutes to claim your prize\nMembers must be present in the club at the time of the draw to claim your prize\nThe maximum prize is $5000 \nTerms & Conditions\nLTPS/15/06115
URL:https://camdenrsl.com.au/event/lucky-members-badge-draw-2-2023-04-23/
LOCATION:Camden R.S.L.\, 23 Cawdor Rd\, Camden\, NSW\, 2570\, Australia
END:VEVENT
BEGIN:VEVENT
DTSTART;TZID=Australia/Sydney:20230424T093000
DTEND;TZID=Australia/Sydney:20230424T093000
DTSTAMP:20260425T073112
CREATED:20210406T022337Z
LAST-MODIFIED:20210406T022337Z
UID:14436-1682328600-1682328600@camdenrsl.com.au
SUMMARY:Mixed Social Bowls
DESCRIPTION:The Camden R.S.L. Club is a great and friendly place to come and play Lawn Bowls. \nMonday Mixed  Social Bowls – All Welcome
URL:https://camdenrsl.com.au/event/mixed-social-bowls-2023-04-24/
LOCATION:Camden R.S.L.\, 23 Cawdor Rd\, Camden\, NSW\, 2570\, Australia
END:VEVENT
BEGIN:VEVENT
DTSTART;TZID=Australia/Sydney:20230424T153000
DTEND;TZID=Australia/Sydney:20230424T173000
DTSTAMP:20260425T073112
CREATED:20180227T041716Z
LAST-MODIFIED:20180227T041716Z
UID:14437-1682350200-1682357400@camdenrsl.com.au
SUMMARY:Member's Happy Hour
DESCRIPTION:  \nDAILY\n3:30pm to 5:30 \n$4.50 Schooners and Glass of Wine
URL:https://camdenrsl.com.au/event/happy-2-hours-2023-04-24/
LOCATION:Camden R.S.L.\, 23 Cawdor Rd\, Camden\, NSW\, 2570\, Australia
END:VEVENT
END:VCALENDAR