BEGIN:VCALENDAR
VERSION:2.0
PRODID:-//Camden RSL - ECPv6.15.20//NONSGML v1.0//EN
CALSCALE:GREGORIAN
METHOD:PUBLISH
X-ORIGINAL-URL:https://camdenrsl.com.au
X-WR-CALDESC:Events for Camden RSL
REFRESH-INTERVAL;VALUE=DURATION:PT1H
X-Robots-Tag:noindex
X-PUBLISHED-TTL:PT1H
BEGIN:VTIMEZONE
TZID:Australia/Sydney
BEGIN:STANDARD
TZOFFSETFROM:+1100
TZOFFSETTO:+1000
TZNAME:AEST
DTSTART:20200404T160000
END:STANDARD
BEGIN:DAYLIGHT
TZOFFSETFROM:+1000
TZOFFSETTO:+1100
TZNAME:AEDT
DTSTART:20201003T160000
END:DAYLIGHT
BEGIN:STANDARD
TZOFFSETFROM:+1100
TZOFFSETTO:+1000
TZNAME:AEST
DTSTART:20210403T160000
END:STANDARD
BEGIN:DAYLIGHT
TZOFFSETFROM:+1000
TZOFFSETTO:+1100
TZNAME:AEDT
DTSTART:20211002T160000
END:DAYLIGHT
BEGIN:STANDARD
TZOFFSETFROM:+1100
TZOFFSETTO:+1000
TZNAME:AEST
DTSTART:20220402T160000
END:STANDARD
BEGIN:DAYLIGHT
TZOFFSETFROM:+1000
TZOFFSETTO:+1100
TZNAME:AEDT
DTSTART:20221001T160000
END:DAYLIGHT
END:VTIMEZONE
BEGIN:VEVENT
DTSTART;TZID=Australia/Sydney:20210203T093000
DTEND;TZID=Australia/Sydney:20210203T093000
DTSTAMP:20260425T061407
CREATED:20180301T004543Z
LAST-MODIFIED:20180301T004543Z
UID:13755-1612344600-1612344600@camdenrsl.com.au
SUMMARY:MIXED SOCIAL BOWLS
DESCRIPTION:EVERY WEDNESDAY \nThe Camden R.S.L. Club is a great and friendly place to come and play Lawn Bowls. \nMixed Mufti Social Bowls – All Welcome
URL:https://camdenrsl.com.au/event/social-bowls-2021-02-03/
LOCATION:NSW
END:VEVENT
BEGIN:VEVENT
DTSTART;TZID=Australia/Sydney:20210205T190000
DTEND;TZID=Australia/Sydney:20210205T210000
DTSTAMP:20260425T061407
CREATED:20180227T061758Z
LAST-MODIFIED:20180227T061758Z
UID:11586-1612551600-1612558800@camdenrsl.com.au
SUMMARY:Lucky Members Badge Draw
DESCRIPTION:Come on down for the Lucky Members Badge Draw on a Friday Night\nThe draw is done at random between 7pm and 9pm \nIf the prize is not won\, the amount jackpots $50 to Sundays draw\nIf the prize is won\, the amount re-starts at $500 next Sundays draw \nIf your number is drawn out you have 4 minutes to claim your prize\nMembers must be present in the club at the time of the draw to claim your prize\nThe maximum prize is $5000 \nTerms & Conditions\nLTPS/15/06115
URL:https://camdenrsl.com.au/event/lucky-members-badge-draw-2021-02-05/
LOCATION:Camden R.S.L.\, 23 Cawdor Rd\, Camden\, NSW\, 2570\, Australia
END:VEVENT
BEGIN:VEVENT
DTSTART;TZID=Australia/Sydney:20210207T190000
DTEND;TZID=Australia/Sydney:20210207T210000
DTSTAMP:20260425T061407
CREATED:20180227T064029Z
LAST-MODIFIED:20210208T033612Z
UID:11590-1612724400-1612731600@camdenrsl.com.au
SUMMARY:Lucky Members Badge Draw
DESCRIPTION:Come on down for the Lucky Members Badge Draw on a Sunday Night\nThe draw is done at random between 7pm and 9pm \nIf the prize is not won\, the amount jackpots $50 to Fridays draw\nIf the prize is won\, the amount re-starts at $500 next Fridays draw \nIf your number is drawn out you have 4 minutes to claim your prize\nMembers must be present in the club at the time of the draw to claim your prize\nThe maximum prize is $5000 \nTerms & Conditions\nLTPS/15/06115
URL:https://camdenrsl.com.au/event/lucky-members-badge-draw-2-2021-02-07/
LOCATION:Camden R.S.L.\, 23 Cawdor Rd\, Camden\, NSW\, 2570\, Australia
END:VEVENT
BEGIN:VEVENT
DTSTART;TZID=Australia/Sydney:20210210T093000
DTEND;TZID=Australia/Sydney:20210210T093000
DTSTAMP:20260425T061407
CREATED:20180301T004543Z
LAST-MODIFIED:20180301T004543Z
UID:13756-1612949400-1612949400@camdenrsl.com.au
SUMMARY:MIXED SOCIAL BOWLS
DESCRIPTION:EVERY WEDNESDAY \nThe Camden R.S.L. Club is a great and friendly place to come and play Lawn Bowls. \nMixed Mufti Social Bowls – All Welcome
URL:https://camdenrsl.com.au/event/social-bowls-2021-02-10/
LOCATION:NSW
END:VEVENT
BEGIN:VEVENT
DTSTART;TZID=Australia/Sydney:20210212T190000
DTEND;TZID=Australia/Sydney:20210212T210000
DTSTAMP:20260425T061407
CREATED:20180227T061758Z
LAST-MODIFIED:20180227T061758Z
UID:11600-1613156400-1613163600@camdenrsl.com.au
SUMMARY:Lucky Members Badge Draw
DESCRIPTION:Come on down for the Lucky Members Badge Draw on a Friday Night\nThe draw is done at random between 7pm and 9pm \nIf the prize is not won\, the amount jackpots $50 to Sundays draw\nIf the prize is won\, the amount re-starts at $500 next Sundays draw \nIf your number is drawn out you have 4 minutes to claim your prize\nMembers must be present in the club at the time of the draw to claim your prize\nThe maximum prize is $5000 \nTerms & Conditions\nLTPS/15/06115
URL:https://camdenrsl.com.au/event/lucky-members-badge-draw-2021-02-12/
LOCATION:Camden R.S.L.\, 23 Cawdor Rd\, Camden\, NSW\, 2570\, Australia
END:VEVENT
BEGIN:VEVENT
DTSTART;TZID=Australia/Sydney:20210214T190000
DTEND;TZID=Australia/Sydney:20210214T210000
DTSTAMP:20260425T061407
CREATED:20180227T064029Z
LAST-MODIFIED:20210208T033612Z
UID:11604-1613329200-1613336400@camdenrsl.com.au
SUMMARY:Lucky Members Badge Draw
DESCRIPTION:Come on down for the Lucky Members Badge Draw on a Sunday Night\nThe draw is done at random between 7pm and 9pm \nIf the prize is not won\, the amount jackpots $50 to Fridays draw\nIf the prize is won\, the amount re-starts at $500 next Fridays draw \nIf your number is drawn out you have 4 minutes to claim your prize\nMembers must be present in the club at the time of the draw to claim your prize\nThe maximum prize is $5000 \nTerms & Conditions\nLTPS/15/06115
URL:https://camdenrsl.com.au/event/lucky-members-badge-draw-2-2021-02-14/
LOCATION:Camden R.S.L.\, 23 Cawdor Rd\, Camden\, NSW\, 2570\, Australia
END:VEVENT
BEGIN:VEVENT
DTSTART;TZID=Australia/Sydney:20210215T110000
DTEND;TZID=Australia/Sydney:20210215T110000
DTSTAMP:20260425T061407
CREATED:20180301T010041Z
LAST-MODIFIED:20210406T035916Z
UID:11606-1613386800-1613386800@camdenrsl.com.au
SUMMARY:Camden Legacy Widows Club
DESCRIPTION:The Camden Legacy Widows Club\nmeets at the Camden R.S.L. Club on the\nThird Monday of each month at 11am.
URL:https://camdenrsl.com.au/event/camden-legacy-widows-club-2021-02-15/
LOCATION:NSW
END:VEVENT
BEGIN:VEVENT
DTSTART;TZID=Australia/Sydney:20210217T093000
DTEND;TZID=Australia/Sydney:20210217T093000
DTSTAMP:20260425T061407
CREATED:20180301T004543Z
LAST-MODIFIED:20180301T004543Z
UID:13757-1613554200-1613554200@camdenrsl.com.au
SUMMARY:MIXED SOCIAL BOWLS
DESCRIPTION:EVERY WEDNESDAY \nThe Camden R.S.L. Club is a great and friendly place to come and play Lawn Bowls. \nMixed Mufti Social Bowls – All Welcome
URL:https://camdenrsl.com.au/event/social-bowls-2021-02-17/
LOCATION:NSW
END:VEVENT
BEGIN:VEVENT
DTSTART;TZID=Australia/Sydney:20210219T190000
DTEND;TZID=Australia/Sydney:20210219T210000
DTSTAMP:20260425T061407
CREATED:20180227T061758Z
LAST-MODIFIED:20180227T061758Z
UID:11914-1613761200-1613768400@camdenrsl.com.au
SUMMARY:Lucky Members Badge Draw
DESCRIPTION:Come on down for the Lucky Members Badge Draw on a Friday Night\nThe draw is done at random between 7pm and 9pm \nIf the prize is not won\, the amount jackpots $50 to Sundays draw\nIf the prize is won\, the amount re-starts at $500 next Sundays draw \nIf your number is drawn out you have 4 minutes to claim your prize\nMembers must be present in the club at the time of the draw to claim your prize\nThe maximum prize is $5000 \nTerms & Conditions\nLTPS/15/06115
URL:https://camdenrsl.com.au/event/lucky-members-badge-draw-2021-02-19/
LOCATION:Camden R.S.L.\, 23 Cawdor Rd\, Camden\, NSW\, 2570\, Australia
END:VEVENT
BEGIN:VEVENT
DTSTART;TZID=Australia/Sydney:20210221T190000
DTEND;TZID=Australia/Sydney:20210221T210000
DTSTAMP:20260425T061407
CREATED:20180227T064029Z
LAST-MODIFIED:20210208T033612Z
UID:12063-1613934000-1613941200@camdenrsl.com.au
SUMMARY:Lucky Members Badge Draw
DESCRIPTION:Come on down for the Lucky Members Badge Draw on a Sunday Night\nThe draw is done at random between 7pm and 9pm \nIf the prize is not won\, the amount jackpots $50 to Fridays draw\nIf the prize is won\, the amount re-starts at $500 next Fridays draw \nIf your number is drawn out you have 4 minutes to claim your prize\nMembers must be present in the club at the time of the draw to claim your prize\nThe maximum prize is $5000 \nTerms & Conditions\nLTPS/15/06115
URL:https://camdenrsl.com.au/event/lucky-members-badge-draw-2-2021-02-21/
LOCATION:Camden R.S.L.\, 23 Cawdor Rd\, Camden\, NSW\, 2570\, Australia
END:VEVENT
BEGIN:VEVENT
DTSTART;TZID=Australia/Sydney:20210224T093000
DTEND;TZID=Australia/Sydney:20210224T093000
DTSTAMP:20260425T061407
CREATED:20180301T004543Z
LAST-MODIFIED:20180301T004543Z
UID:13758-1614159000-1614159000@camdenrsl.com.au
SUMMARY:MIXED SOCIAL BOWLS
DESCRIPTION:EVERY WEDNESDAY \nThe Camden R.S.L. Club is a great and friendly place to come and play Lawn Bowls. \nMixed Mufti Social Bowls – All Welcome
URL:https://camdenrsl.com.au/event/social-bowls-2021-02-24/
LOCATION:NSW
END:VEVENT
BEGIN:VEVENT
DTSTART;TZID=Australia/Sydney:20210226T190000
DTEND;TZID=Australia/Sydney:20210226T210000
DTSTAMP:20260425T061407
CREATED:20180227T061758Z
LAST-MODIFIED:20180227T061758Z
UID:11915-1614366000-1614373200@camdenrsl.com.au
SUMMARY:Lucky Members Badge Draw
DESCRIPTION:Come on down for the Lucky Members Badge Draw on a Friday Night\nThe draw is done at random between 7pm and 9pm \nIf the prize is not won\, the amount jackpots $50 to Sundays draw\nIf the prize is won\, the amount re-starts at $500 next Sundays draw \nIf your number is drawn out you have 4 minutes to claim your prize\nMembers must be present in the club at the time of the draw to claim your prize\nThe maximum prize is $5000 \nTerms & Conditions\nLTPS/15/06115
URL:https://camdenrsl.com.au/event/lucky-members-badge-draw-2021-02-26/
LOCATION:Camden R.S.L.\, 23 Cawdor Rd\, Camden\, NSW\, 2570\, Australia
END:VEVENT
BEGIN:VEVENT
DTSTART;TZID=Australia/Sydney:20210228T190000
DTEND;TZID=Australia/Sydney:20210228T210000
DTSTAMP:20260425T061407
CREATED:20180227T064029Z
LAST-MODIFIED:20210208T033613Z
UID:12064-1614538800-1614546000@camdenrsl.com.au
SUMMARY:Lucky Members Badge Draw
DESCRIPTION:Come on down for the Lucky Members Badge Draw on a Sunday Night\nThe draw is done at random between 7pm and 9pm \nIf the prize is not won\, the amount jackpots $50 to Fridays draw\nIf the prize is won\, the amount re-starts at $500 next Fridays draw \nIf your number is drawn out you have 4 minutes to claim your prize\nMembers must be present in the club at the time of the draw to claim your prize\nThe maximum prize is $5000 \nTerms & Conditions\nLTPS/15/06115
URL:https://camdenrsl.com.au/event/lucky-members-badge-draw-2-2021-02-28/
LOCATION:Camden R.S.L.\, 23 Cawdor Rd\, Camden\, NSW\, 2570\, Australia
END:VEVENT
END:VCALENDAR